#==================== 
data_general 
  
_publ_contact_author 
; 
   Prof. Rich Givens 
   Department of Chemistry 
   University of Kansas 
   Rm 2010 Malott Hall 
   1251 Wescoe Hall Dr. 
   Lawrence, KS  66045-7582  USA 
; 
_publ_contact_author_email      givensr@ku.edu 
_publ_contact_author_fax        1(785)8645396 
_publ_contact_author_phone      1(785)8643846 
  
_publ_requested_journal         'journal name here' 
  
loop_ 
    _publ_author_name 
    _publ_author_address 
   'Elizabeth D. Cope' 
;  Department of Chemistry 
   University of Kansas 
   Rm 2010 Malott Hall 
   1251 Wescoe Hall Dr. 
   Lawrence, KS  66045-7582  USA 
; 
  
  'Rich Givens' 
;  Department of Chemistry 
   University of Kansas 
   Rm 2010 Malott Hall 
   1251 Wescoe Hall Dr. 
   Lawrence, KS  66045-7582  USA 
; 
_publ_section_title 
; 
 article title here  'article title here' 
; 
_publ_section_references 
; 
  Bruker (1998) SMART and SAINT, Bruker AXS, Inc., Madison, 
     Wisconsin, USA. 
  
  Sheldrick, G. M. (2000) SADABS, University of Göttingen, 
     Germany 
  
  Sheldrick, G. M. (1997) SHELXTL, Bruker AXS, Inc., Madison, 
     Wisconsin, USA. 
; 
_publ_section_acknowledgements 
; 
 The authors wish to thank the National Science Foundation 
 (CHE-0079282) and the University of Kansas for funds to 
 acquire the diffractometer and computers used in this work. 
; 
  
data_k48d 
  
_audit_creation_method            SHELXL-97 
_chemical_name_systematic 
; 
 ? 
; 
_chemical_name_common             ? 
_chemical_melting_point           ? 
_chemical_formula_moiety          ? 
_chemical_formula_sum 
 'C9 H10 O5 S' 
_chemical_formula_weight          230.23 
  
loop_ 
 _atom_type_symbol 
 _atom_type_description 
 _atom_type_scat_dispersion_real 
 _atom_type_scat_dispersion_imag 
 _atom_type_scat_source 
 'C'  'C'   0.0033   0.0016 
 'International Tables Vol C Tables 4.2.6.8 and 6.1.1.4' 
 'H'  'H'   0.0000   0.0000 
 'International Tables Vol C Tables 4.2.6.8 and 6.1.1.4' 
 'O'  'O'   0.0106   0.0060 
 'International Tables Vol C Tables 4.2.6.8 and 6.1.1.4' 
 'S'  'S'   0.1246   0.1234 
 'International Tables Vol C Tables 4.2.6.8 and 6.1.1.4' 
  
_symmetry_cell_setting            Monoclinic 
_symmetry_space_group_name_H-M    P2(1)/m 
  
loop_ 
 _symmetry_equiv_pos_as_xyz 
 'x, y, z' 
 '-x, y+1/2, -z' 
 '-x, -y, -z' 
 'x, -y-1/2, z' 
  
_cell_length_a                    8.1286(12) 
_cell_length_b                    6.6091(10) 
_cell_length_c                    8.8678(13) 
_cell_angle_alpha                 90.00 
_cell_angle_beta                  97.535(3) 
_cell_angle_gamma                 90.00 
_cell_volume                      472.29(12) 
_cell_formula_units_Z             2 
_cell_measurement_temperature     100(2) 
_cell_measurement_reflns_used     2085 
_cell_measurement_theta_min       2.53 
_cell_measurement_theta_max       30.28 
  
_exptl_crystal_description        'Square plate' 
_exptl_crystal_colour             Colorless 
_exptl_crystal_size_max           0.15 
_exptl_crystal_size_mid           0.13 
_exptl_crystal_size_min           0.04 
_exptl_crystal_density_meas       ? 
_exptl_crystal_density_diffrn     1.619 
_exptl_crystal_density_method     'not measured' 
_exptl_crystal_F_000              240 
_exptl_absorpt_coefficient_mu     0.341 
_exptl_absorpt_correction_type    'multi-scan' 
_exptl_absorpt_correction_T_min   0.934 
_exptl_absorpt_correction_T_max   1.000 
_exptl_absorpt_process_details    ? 
  
_exptl_special_details 
; 
 ? 
; 
  
_diffrn_ambient_temperature       100(2) 
_diffrn_radiation_wavelength      0.71073 
_diffrn_radiation_type            MoK\a 
_diffrn_radiation_source          'fine-focus sealed tube' 
_diffrn_radiation_monochromator   graphite 
_diffrn_measurement_device_type   'Bruker SMART APEX CCD area detector' 
_diffrn_measurement_method        'phi and omega scans' 
_diffrn_detector_area_resol_mean  ? 
_diffrn_standards_number          ? 
_diffrn_standards_interval_count  ? 
_diffrn_standards_interval_time   ? 
_diffrn_standards_decay_%         0.00 
_diffrn_reflns_number             5835 
_diffrn_reflns_av_R_equivalents   0.0380 
_diffrn_reflns_av_sigmaI/netI     0.0376 
_diffrn_reflns_limit_h_min        -11 
_diffrn_reflns_limit_h_max        11 
_diffrn_reflns_limit_k_min        -9 
_diffrn_reflns_limit_k_max        9 
_diffrn_reflns_limit_l_min        -12 
_diffrn_reflns_limit_l_max        12 
_diffrn_reflns_theta_min          2.32 
_diffrn_reflns_theta_max          30.47 
_reflns_number_total              1551 
_reflns_number_gt                 1383 
_reflns_threshold_expression      >2sigma(I) 
  
_computing_data_collection        'Bruker SMART' 
_computing_cell_refinement        'Bruker SAINT' 
_computing_data_reduction         'Bruker SAINT' 
_computing_structure_solution     'Bruker SHELXTL' 
_computing_structure_refinement   'Bruker SHELXTL' 
_computing_molecular_graphics     'Bruker SHELXTL' 
_computing_publication_material   'Bruker SHELXTL' 
  
_refine_special_details 
; 
 Refinement of F² against ALL reflections.  The weighted R-factor wR and 
 goodness of fit S are based on F², conventional R-factors R are based 
 on F, with F set to zero for negative F². The threshold expression of 
 F² > 2sigma(F²) is used only for calculating R-factors(gt) etc. and is 
 not relevant to the choice of reflections for refinement.  R-factors based 
 on F² are statistically about twice as large as those based on F, and R- 
 factors based on ALL data will be even larger. 
; 
  
_refine_ls_structure_factor_coef  Fsqd 
_refine_ls_matrix_type            full 
_refine_ls_weighting_scheme       calc 
_refine_ls_weighting_details 
 'calc w=1/[σ²(Fo²)+(0.0573P)²+0.0000P] where P=(Fo²+2Fc²)/3' 
_atom_sites_solution_primary      direct 
_atom_sites_solution_secondary    difmap 
_atom_sites_solution_hydrogens    geom 
_refine_ls_hydrogen_treatment     mixed 
_refine_ls_extinction_method      none 
_refine_ls_extinction_coef        ? 
_refine_ls_number_reflns          1551 
_refine_ls_number_parameters      114 
_refine_ls_number_restraints      0 
_refine_ls_R_factor_all           0.0486 
_refine_ls_R_factor_gt            0.0422 
_refine_ls_wR_factor_ref          0.1055 
_refine_ls_wR_factor_gt           0.1024 
_refine_ls_goodness_of_fit_ref    1.136 
_refine_ls_restrained_S_all       1.136 
_refine_ls_shift/su_max           0.000 
_refine_ls_shift/su_mean          0.000 
  
loop_ 
 _atom_site_label 
 _atom_site_type_symbol 
 _atom_site_fract_x 
 _atom_site_fract_y 
 _atom_site_fract_z 
 _atom_site_U_iso_or_equiv 
 _atom_site_adp_type 
 _atom_site_occupancy 
 _atom_site_symmetry_multiplicity 
 _atom_site_calc_flag 
 _atom_site_refinement_flags 
 _atom_site_disorder_assembly 
 _atom_site_disorder_group 
S S 0.23582(6) 0.2500 0.46797(5) 0.01119(15) Uani 1 2 d S . . 
O1 O 0.26332(17) 0.2500 0.29569(16) 0.0145(3) Uani 1 2 d S . . 
O2 O 0.28173(17) 0.2500 0.01169(16) 0.0148(3) Uani 1 2 d S . . 
O3 O 0.29637(13) 0.06513(18) 0.53854(12) 0.0184(3) Uani 1 1 d . . . 
O4 O 0.9979(2) 0.2500 -0.19518(18) 0.0190(4) Uani 1 2 d S . . 
H4O H 1.066(4) 0.2500 -0.140(3) 0.029(9) Uiso 1 2 d S . . 
C1 C 0.4321(2) 0.2500 0.2605(2) 0.0120(4) Uani 1 2 d S . . 
H1 H 0.489(2) 0.136(3) 0.300(2) 0.019(5) Uiso 1 1 d . . . 
C2 C 0.4183(2) 0.2500 0.0880(2) 0.0110(4) Uani 1 2 d S . . 
C3 C 0.5735(2) 0.2500 0.0189(2) 0.0113(4) Uani 1 2 d S . . 
C4 C 0.5646(3) 0.2500 -0.1400(2) 0.0116(4) Uani 1 2 d S . . 
H4 H 0.465(4) 0.2500 -0.203(4) 0.041(9) Uiso 1 2 d S . . 
C5 C 0.7066(3) 0.2500 -0.2099(2) 0.0126(4) Uani 1 2 d S . . 
H5 H 0.704(3) 0.2500 -0.318(3) 0.018(7) Uiso 1 2 d S . . 
C6 C 0.8621(2) 0.2500 -0.1206(2) 0.0131(4) Uani 1 2 d S . . 
C7 C 0.8732(3) 0.2500 0.0374(2) 0.0155(4) Uani 1 2 d S . . 
H7 H 0.968(4) 0.2500 0.092(3) 0.033(8) Uiso 1 2 d S . . 
C8 C 0.7296(3) 0.2500 0.1063(2) 0.0141(4) Uani 1 2 d S . . 
H8 H 0.746(3) 0.2500 0.220(3) 0.027(8) Uiso 1 2 d S . . 
C9 C 0.0196(3) 0.2500 0.4362(2) 0.0153(4) Uani 1 2 d S . . 
H9A H -0.017(3) 0.2500 0.536(3) 0.022(7) Uiso 1 2 d S . . 
H9B H -0.020(2) 0.130(3) 0.381(2) 0.022(5) Uiso 1 1 d . . . 
  
loop_ 
 _atom_site_aniso_label 
 _atom_site_aniso_U_11 
 _atom_site_aniso_U_22 
 _atom_site_aniso_U_33 
 _atom_site_aniso_U_23 
 _atom_site_aniso_U_13 
 _atom_site_aniso_U_12 
S 0.0085(2) 0.0151(3) 0.0099(2) 0.000 0.00105(16) 0.000 
O1 0.0093(7) 0.0250(8) 0.0095(6) 0.000 0.0026(5) 0.000 
O2 0.0095(7) 0.0200(8) 0.0144(7) 0.000 0.0000(5) 0.000 
O3 0.0162(6) 0.0201(6) 0.0182(5) 0.0042(4) -0.0005(4) 0.0034(4) 
O4 0.0091(7) 0.0365(10) 0.0117(7) 0.000 0.0021(6) 0.000 
C1 0.0093(9) 0.0139(9) 0.0130(9) 0.000 0.0027(7) 0.000 
C2 0.0097(9) 0.0098(9) 0.0136(9) 0.000 0.0013(7) 0.000 
C3 0.0100(9) 0.0122(9) 0.0115(9) 0.000 0.0013(7) 0.000 
C4 0.0091(9) 0.0126(9) 0.0125(9) 0.000 -0.0008(7) 0.000 
C5 0.0131(9) 0.0165(9) 0.0083(8) 0.000 0.0011(7) 0.000 
C6 0.0105(9) 0.0164(10) 0.0126(9) 0.000 0.0028(7) 0.000 
C7 0.0095(9) 0.0251(11) 0.0114(9) 0.000 -0.0009(7) 0.000 
C8 0.0115(9) 0.0204(10) 0.0103(9) 0.000 0.0013(7) 0.000 
C9 0.0108(9) 0.0201(11) 0.0151(10) 0.000 0.0021(7) 0.000 
  
_geom_special_details 
; 
 All esds (except the esd in the dihedral angle between two l.s. planes) 
 are estimated using the full covariance matrix.  The cell esds are taken 
 into account individually in the estimation of esds in distances, angles 
 and torsion angles; correlations between esds in cell parameters are only 
 used when they are defined by crystal symmetry.  An approximate (isotropic) 
 treatment of cell esds is used for estimating esds involving l.s. planes. 
; 
  
loop_ 
 _geom_bond_atom_site_label_1 
 _geom_bond_atom_site_label_2 
 _geom_bond_distance 
 _geom_bond_site_symmetry_2 
 _geom_bond_publ_flag 
S O3 1.4304(11) 4_565 ? 
S O3 1.4304(11) . ? 
S O1 1.5727(15) . ? 
S C9 1.743(2) . ? 
O1 C1 1.446(2) . ? 
O2 C2 1.222(2) . ? 
O4 C6 1.359(2) . ? 
O4 H4O 0.69(3) . ? 
C1 C2 1.519(3) . ? 
C1 H1 0.930(17) . ? 
C2 C3 1.473(3) . ? 
C3 C8 1.398(3) . ? 
C3 C4 1.401(3) . ? 
C4 C5 1.379(3) . ? 
C4 H4 0.92(3) . ? 
C5 C6 1.401(3) . ? 
C5 H5 0.95(3) . ? 
C6 C7 1.392(3) . ? 
C7 C8 1.386(3) . ? 
C7 H7 0.85(3) . ? 
C8 H8 1.00(3) . ? 
C9 H9A 0.97(3) . ? 
C9 H9B 0.965(18) . ? 
  
loop_ 
 _geom_angle_atom_site_label_1 
 _geom_angle_atom_site_label_2 
 _geom_angle_atom_site_label_3 
 _geom_angle 
 _geom_angle_site_symmetry_1 
 _geom_angle_site_symmetry_3 
 _geom_angle_publ_flag 
O3 S O3 117.34(9) 4_565 . ? 
O3 S O1 109.90(5) 4_565 . ? 
O3 S O1 109.90(5) . . ? 
O3 S C9 110.64(6) 4_565 . ? 
O3 S C9 110.64(6) . . ? 
O1 S C9 96.42(9) . . ? 
C1 O1 S 117.99(12) . . ? 
C6 O4 H4O 106(3) . . ? 
O1 C1 C2 105.70(16) . . ? 
O1 C1 H1 110.8(12) . . ? 
C2 C1 H1 110.3(11) . . ? 
O2 C2 C3 122.33(18) . . ? 
O2 C2 C1 119.96(18) . . ? 
C3 C2 C1 117.71(17) . . ? 
C8 C3 C4 118.74(18) . . ? 
C8 C3 C2 122.27(18) . . ? 
C4 C3 C2 118.99(18) . . ? 
C5 C4 C3 121.07(18) . . ? 
C5 C4 H4 116(2) . . ? 
C3 C4 H4 122(2) . . ? 
C4 C5 C6 119.49(18) . . ? 
C4 C5 H5 122.6(17) . . ? 
C6 C5 H5 117.9(17) . . ? 
O4 C6 C7 122.68(19) . . ? 
O4 C6 C5 117.09(18) . . ? 
C7 C6 C5 120.22(19) . . ? 
C8 C7 C6 119.76(19) . . ? 
C8 C7 H7 120(2) . . ? 
C6 C7 H7 120(2) . . ? 
C7 C8 C3 120.72(18) . . ? 
C7 C8 H8 116.0(17) . . ? 
C3 C8 H8 123.2(17) . . ? 
S C9 H9A 105.7(16) . . ? 
S C9 H9B 110.3(11) . . ? 
H9A C9 H9B 109.9(14) . . ? 
  
loop_ 
 _geom_torsion_atom_site_label_1 
 _geom_torsion_atom_site_label_2 
 _geom_torsion_atom_site_label_3 
 _geom_torsion_atom_site_label_4 
 _geom_torsion 
 _geom_torsion_site_symmetry_1 
 _geom_torsion_site_symmetry_2 
 _geom_torsion_site_symmetry_3 
 _geom_torsion_site_symmetry_4 
 _geom_torsion_publ_flag 
O3 S O1 C1 65.29(6) 4_565 . . . ? 
O3 S O1 C1 -65.29(6) . . . . ? 
C9 S O1 C1 180.0 . . . . ? 
S O1 C1 C2 180.0 . . . . ? 
O1 C1 C2 O2 0.0 . . . . ? 
O1 C1 C2 C3 180.0 . . . . ? 
O2 C2 C3 C8 180.0 . . . . ? 
C1 C2 C3 C8 0.0 . . . . ? 
O2 C2 C3 C4 0.0 . . . . ? 
C1 C2 C3 C4 180.0 . . . . ? 
C8 C3 C4 C5 0.0 . . . . ? 
C2 C3 C4 C5 180.0 . . . . ? 
C3 C4 C5 C6 0.0 . . . . ? 
C4 C5 C6 O4 180.0 . . . . ? 
C4 C5 C6 C7 0.0 . . . . ? 
O4 C6 C7 C8 180.0 . . . . ? 
C5 C6 C7 C8 0.0 . . . . ? 
C6 C7 C8 C3 0.0 . . . . ? 
C4 C3 C8 C7 0.0 . . . . ? 
C2 C3 C8 C7 180.0 . . . . ? 
  
loop_ 
 _geom_hbond_atom_site_label_D 
 _geom_hbond_atom_site_label_H 
 _geom_hbond_atom_site_label_A 
 _geom_hbond_distance_DH 
 _geom_hbond_distance_HA 
 _geom_hbond_distance_DA 
 _geom_hbond_angle_DHA 
 _geom_hbond_site_symmetry_A 
O4 H4O O2  0.69(3) 2.07(3) 2.753(2) 175(4) 1_655 
  
_diffrn_measured_fraction_theta_max    0.996 
_diffrn_reflns_theta_full              30.47 
_diffrn_measured_fraction_theta_full   0.996 
_refine_diff_density_max    0.741 
_refine_diff_density_min   -0.275 
_refine_diff_density_rms    0.081 
